BEGIN:VCALENDAR
PRODID:-//eluceo/ical//2.0/EN
VERSION:2.0
CALSCALE:GREGORIAN
BEGIN:VEVENT
UID:bb16890dd2cdad9cd698e96bc88fe94d
DTSTAMP:20260423T100912Z
SUMMARY:St. Pölten: eine Stadt und ihre Region im Aufbruch
DESCRIPTION:Referenten/innen: Mag. Harald JoichlZoom für Hybrid: https://
 us02web.zoom.us/j/86732554920?pwd=OGNveDF5NTNtc05nZGM0WTFRVFNLUT09oder Mee
 ting-ID: 867 3255 4920\, Kenncode: 1964 
URL:https://gastein.rotary.at/de/agenda/show/145717
DTSTART;TZID=Europe/Zurich:20260317T190000
DTEND;TZID=Europe/Zurich:20260317T213000
LOCATION:Hybrid - Gasteinalm und Online\, Schlossgasse 1\, 5630 Bad Hofgast
 ein\, Österreich
CATEGORIES:Rotary
END:VEVENT
BEGIN:VTIMEZONE
TZID:Europe/Zurich
BEGIN:STANDARD
DTSTART:20260317T190000
TZNAME:CET
TZOFFSETTO:+0100
TZOFFSETFROM:+0100
END:STANDARD
END:VTIMEZONE
END:VCALENDAR
